BEGIN:VCALENDAR
VERSION:2.0
PRODID:Events Booking
BEGIN:VEVENT
UID:69eb4efa6772b
SUMMARY:Vertiefungskurs Betriebsoptimierung eBO-Tool
DESCRIPTION:Die Teilnehmenden lernen mit dem eBO-Tool zu arbeiten. Für den
  Besuch dieses Kurses sind Grundkenntnisse von Gebäudetechnikanlagen erfo
 rderlich.
 
 Erfüllung der jeweiligen kantonalen Energiegesetzgebung
 
 Erläuterungen zum eBO-Tool und den Grundfunktionen
 Betriebsoptimierung 
 mit Hilfe der Massnahmenblätter und des eBO-Tools
 
DTSTART:20240625T063000Z
DTEND:20240625T100000Z
DTSTAMP:20240119T143325Z
ORGANIZER;CN=IFMA Schweiz :MAILTO:admin@ifma.ch
END:VEVENT
END:VCALENDAR