BEGIN:VCALENDAR
VERSION:2.0
PRODID:Events Booking
BEGIN:VEVENT
UID:69ea526a08c5b
SUMMARY:FEZ UpToDate «Bereit zur Abstimmung» 
DESCRIPTION:Referenten Matthias Möller und Rahel Gessler\, Annuscha Schmid
 t Moderation
LOCATION:Zürich\, Schweiz
DTSTART:20211108T110000Z
DTEND:20211108T113000Z
DTSTAMP:20260423T191002Z
ORGANIZER;CN=IFMA Schweiz :MAILTO:admin@ifma.ch
GEO:47.376887;8.541694
X-APPLE-STRUCTURED-LOCATION;VALUE=URI;X-ADDRESS=Zürich\, Schweiz;X-APPLE-R
 ADIUS=72;X-TITLE=online:47.376887;8.541694
END:VEVENT
END:VCALENDAR