BEGIN:VCALENDAR
VERSION:2.0
PRODID:Events Booking
BEGIN:VEVENT
UID:69e624fd385a1
SUMMARY:Tonhalle und Kongresshaus
DESCRIPTION:FEZ ENERGIE VorOrtKlimaneutraler Betrieb im Herzen Zürichs: Na
 ch einem insgesamt vierjährigen Total-um- und Ausbau ist das Kongresshaus
  und die Tonhalle Zürich wieder eröffnet. Nachhaltigkeit wird grossgesch
 rieben. Der Anschluss an einen Seewasserverbund und das hochgesteckte Ziel
  eines klimaneutralen Betriebs der Kongresshaus AG sind nur zwei Aspekte d
 avon.
LOCATION:Claridenstrasse 7\, 8002 Zürich\, Schweiz
DTSTART:20220824T151500Z
DTEND:20220824T170000Z
DTSTAMP:20260420T150709Z
ORGANIZER;CN=IFMA Schweiz :MAILTO:admin@ifma.ch
GEO:47.365946;8.537652
X-APPLE-STRUCTURED-LOCATION;VALUE=URI;X-ADDRESS=Claridenstrasse 7\, 8002 Z
 ürich\, Schweiz;X-APPLE-RADIUS=72;X-TITLE=Zürich\, Eingangshalle Tonhall
 e:47.365946;8.537652
END:VEVENT
END:VCALENDAR