BEGIN:VCALENDAR
VERSION:2.0
PRODID:Events Booking
BEGIN:VEVENT
UID:69e6223019a8e
SUMMARY:Real Estate Symposium 
DESCRIPTION:Weil wir in einer Zeit des schnellen Wandels leben\, müssen wi
 r die Zukunft neu denken. Damit wir die Veränderungen nicht nur antizipie
 ren\, sondern massgeblich mitbestimmen. Spannende Referenten denken die Zu
 kunft mit uns neu.
LOCATION:Thurgauerstrasse 101\, 8152 Opfikon\, Schweiz
DTSTART:20220316T080000Z
DTEND:20220316T123000Z
DTSTAMP:20260420T145512Z
ORGANIZER;CN=IFMA Schweiz :MAILTO:admin@ifma.ch
GEO:47.421718;8.555685
X-APPLE-STRUCTURED-LOCATION;VALUE=URI;X-ADDRESS=Thurgauerstrasse 101\, 8152
  Opfikon\, Schweiz;X-APPLE-RADIUS=72;X-TITLE=Zürich\, Ambassador House:47
 .421718;8.555685
END:VEVENT
END:VCALENDAR