BEGIN:VCALENDAR
VERSION:2.0
PRODID:Events Booking
BEGIN:VEVENT
UID:69e4e9b26fc6f
SUMMARY:Nutzung und Nutzen von Zustandsüberwachungsdaten
DESCRIPTION:Digitalisierung\, Industrie 4.0 oder Big Data sind Begriffe\, d
 ie uns in der Arbeitswelt und den Medien täglich begegnen. Über viele Da
 ten zu Verfügen ist das eine. Diese konkret zu Nutzen und dadurch Instand
 haltungsprozesse zu verbessern und zu optimieren lautet die Herausforderun
 g\, vor der viele Instandhalter und Produktionsleiter stehen
LOCATION:Flughafen Zürich (ZRH)\, 8058 Zürich-Flughafen\, Schweiz
DTSTART:20171026T111500Z
DTEND:20171026T163000Z
DTSTAMP:20260419T164154Z
ORGANIZER;CN=IFMA Schweiz :MAILTO:admin@ifma.ch
GEO:47.458217;8.555476
X-APPLE-STRUCTURED-LOCATION;VALUE=URI;X-ADDRESS=Flughafen Zürich (ZRH)\, 8
 058 Zürich-Flughafen\, Schweiz;X-APPLE-RADIUS=72;X-TITLE=:47.458217;8.555
 476
END:VEVENT
END:VCALENDAR