BEGIN:VCALENDAR
VERSION:2.0
PRODID:Events Booking
BEGIN:VEVENT
UID:69e7be8d7d691
SUMMARY:Klimaangepasste Gestaltung
DESCRIPTION:Drei Referentinnen und Referenten befassen sich mit unterschied
 lichen Aspekten der klimaangepassten Gestaltung: zukünftige Hitzebelastun
 g im Siedlungsraum\, naturnahe Aussenraumgestaltung sowie klimaangepasstes
  Bauen in Bangladesch im Vergleich zur Schweizer Baupraxis.
LOCATION:Weinbergstrasse 36\, 8006 Zürich\, Schweiz
DTSTART:20191119T161500Z
DTEND:20191119T180000Z
DTSTAMP:20260421T201437Z
ORGANIZER;CN=IFMA Schweiz :MAILTO:admin@ifma.ch
GEO:47.379872;8.544478
X-APPLE-STRUCTURED-LOCATION;VALUE=URI;X-ADDRESS=Weinbergstrasse 36\, 8006 Z
 ürich\, Schweiz;X-APPLE-RADIUS=72;X-TITLE=Zürich\, Pfarreizentrum Liebfr
 auen:47.379872;8.544478
END:VEVENT
END:VCALENDAR