BEGIN:VCALENDAR
VERSION:2.0
PRODID:Events Booking
BEGIN:VEVENT
UID:69ea2e255b028
SUMMARY:Immobilienportfolios auf einen klimafreundlichen Pfad bringen
DESCRIPTION:Fachtagung für Eigentümer\, Dienstleister\, Startups und Fors
 chende als Co-Kreateure klimafreundlicher Lösungen.Nebst 2 Keynotes zum T
 hema wird es Inputs aus der Forschung\, interaktive Parallel Sessions zum 
 Thema energetische Betriebsoptimierung und energetische Modernisierung sow
 ie eine Ausstellung relevanter Startups geben
LOCATION:Zürich\, Schweiz
DTSTART:20210630T220000Z
DTEND:20210630T220000Z
DTSTAMP:20260423T163517Z
ORGANIZER;CN=IFMA Schweiz :MAILTO:admin@ifma.ch
GEO:47.376887;8.541694
X-APPLE-STRUCTURED-LOCATION;VALUE=URI;X-ADDRESS=Zürich\, Schweiz;X-APPLE-R
 ADIUS=72;X-TITLE=online:47.376887;8.541694
END:VEVENT
END:VCALENDAR