BEGIN:VCALENDAR
VERSION:2.0
PRODID:Events Booking
BEGIN:VEVENT
UID:69e4e96ce6b2e
SUMMARY:Good Morning FM: Unispital Zürich
DESCRIPTION:Interessante Referate\, mit dem FM-Schwerpunkt einer hochtechni
 sierten und anspruchsvollen Spitalumgebung. Nach dem Frühstück folgen no
 ch verschiedene Führungen welche Einblicke in die komplexen und sensitive
 n Betriebsabläufe des UniversitätsSpitals Zürich zeigen.
 Mit Referat 
 von Susanna Caravatti-Felchlin und Grusswort von Andy Stierli 
LOCATION:Schmelzbergstrasse 12\, 8006 Zürich\, Schweiz
DTSTART:20171019T060000Z
DTEND:20171019T103000Z
DTSTAMP:20260419T164044Z
ORGANIZER;CN=IFMA Schweiz :MAILTO:admin@ifma.ch
GEO:47.377527;8.550799
X-APPLE-STRUCTURED-LOCATION;VALUE=URI;X-ADDRESS=Schmelzbergstrasse 12\, 800
 6 Zürich\, Schweiz;X-APPLE-RADIUS=72;X-TITLE=:47.377527;8.550799
END:VEVENT
END:VCALENDAR