BEGIN:VCALENDAR
VERSION:2.0
PRODID:Events Booking
BEGIN:VEVENT
UID:69e60f8bee071
SUMMARY:Good Morning FM: FM im Altertum\, alte Konzepte neu entdeckt
DESCRIPTION:Eine historische Zeitreise zu den Themen «Entsorgen\, Heizen\,
  Wasser- und Abwasser» von der Römerzeit\, Mittelalter\, Renaissance bis
  Heute.
 Aus erster Hand erhalten Sie vom Geschäftsführer des Landesmus
 eums einen Einblick in den täglichen Betrieb des Gebäudes\, die Renovati
 on und den Anbau des neuen Komplexes und die damit verbundenen täglichen 
 Herausforderungen rund ums Facility Management
LOCATION:Museumstrasse 2\, 8001 Zürich\, Schweiz
DTSTART:20191210T070000Z
DTEND:20191210T110000Z
DTSTAMP:20260420T133539Z
ORGANIZER;CN=IFMA Schweiz :MAILTO:admin@ifma.ch
GEO:47.379024;8.541006
X-APPLE-STRUCTURED-LOCATION;VALUE=URI;X-ADDRESS=Museumstrasse 2\, 8001 Zür
 ich\, Schweiz;X-APPLE-RADIUS=72;X-TITLE=Zürich\, Landesmuseum:47.379024;8
 .541006
END:VEVENT
END:VCALENDAR