BEGIN:VCALENDAR
VERSION:2.0
PRODID:Events Booking
BEGIN:VEVENT
UID:69e53084e4ddd
SUMMARY:Gebäudehülle der Zukunft
DESCRIPTION:3 Referate:
 
 Gläserne Zukunft
 Eine Glasfassade\, die Str
 om produziert
 Fassadenbegrünungen
 
LOCATION:Weinbergstrasse 36\, 8006 Zürich\, Schweiz
DTSTART:20180410T151500Z
DTEND:20180410T170000Z
DTSTAMP:20260419T214404Z
ORGANIZER;CN=IFMA Schweiz :MAILTO:admin@ifma.ch
GEO:47.379872;8.544478
X-APPLE-STRUCTURED-LOCATION;VALUE=URI;X-ADDRESS=Weinbergstrasse 36\, 8006 Z
 ürich\, Schweiz;X-APPLE-RADIUS=72;X-TITLE=Zürich\, Pfarreizentrum Liebfr
 auen:47.379872;8.544478
END:VEVENT
END:VCALENDAR