BEGIN:VCALENDAR
VERSION:2.0
PRODID:Events Booking
BEGIN:VEVENT
UID:69eb1c882de39
SUMMARY:Forum Smart Home - smart living\, smart energy\, smart technology
DESCRIPTION:Das Forum Smart Home ist die grösste und damit wichtigste Vera
 nstaltung im Bereich intelligente Gebäudetechnik in der Schweiz. Es biete
 t eine Plattform für Experten\, Industriepartner und Fachleute\, um die n
 euesten Entwicklungen im Bereich des smart living\, smart energy und smart
  technology zu erkunden. Ein spannender Tag voller Innovationen und Diskus
 sionen rund um das Thema Smart Home.IFMA Mitglieder erhalten einen vergün
 stigten Eintritt mit dem Promocode VPARTNER.
LOCATION:Technopark\, Technoparkstrasse 1\, 8005 Zürich\, Schweiz
DTSTART:20240228T073000Z
DTEND:20240228T170000Z
DTSTAMP:20240112T064742Z
ORGANIZER;CN=IFMA Schweiz :MAILTO:admin@ifma.ch
GEO:47.389844;8.515625
X-APPLE-STRUCTURED-LOCATION;VALUE=URI;X-ADDRESS=Technopark\, Technoparkstra
 sse 1\, 8005 Zürich\, Schweiz;X-APPLE-RADIUS=72;X-TITLE=Zürich\, Technop
 ark:47.389844;8.515625
END:VEVENT
END:VCALENDAR