BEGIN:VCALENDAR
VERSION:2.0
PRODID:Events Booking
BEGIN:VEVENT
UID:69ea5324762df
SUMMARY:fmpro Netzwerktreffen Bern mit Besichtigung Lötschberg Basistunnel
DESCRIPTION:Erfahren Sie auf einer geführten Besichtigung mehr zum Bau und
  Betrieb des Lötschberg Basistunnels. Sie können mit einem Kleinbus ins
  Tunnelsystem fahren\, die Betriebszentrale Mitholz besichtigen sowie ein
 en exklusiven Blick durch das Spezialfenster in den Bahntunnel werfen.Im T
 ropenhaus Frutigen erwartet Sie im Anschluss ein Apéro Riche und Sie hab
 en genügend Zeit für einen spannenden Austausch.
LOCATION:Obere Bahnhofstrasse 29\, 3714 Frutigen\, Schweiz
DTSTART:20211029T111500Z
DTEND:20211029T163000Z
DTSTAMP:20260423T191308Z
ORGANIZER;CN=IFMA Schweiz :MAILTO:admin@ifma.ch
GEO:46.590145;7.650541
X-APPLE-STRUCTURED-LOCATION;VALUE=URI;X-ADDRESS=Obere Bahnhofstrasse 29\, 3
 714 Frutigen\, Schweiz;X-APPLE-RADIUS=72;X-TITLE=Frutigen\, BLS Besucherze
 ntrum:46.590145;7.650541
END:VEVENT
END:VCALENDAR