BEGIN:VCALENDAR
VERSION:2.0
PRODID:Events Booking
BEGIN:VEVENT
UID:69e6125c3534a
SUMMARY:FM-Blitzlicht aus dem Regionalkreis West - \"BIM - zwischen Theorie
  und Wirklichkeit\"
DESCRIPTION:
 BIM ist die Zukunft des Planens und Bauens. Dabei wird eine 
 enorme Datenmenge generiert und digital im Modell abgelegt: Ein wahrer Dat
 enschatz für den späteren Betrieb\, soweit die Theorie. Die Wirklichkeit
  sieht leider noch etwas anders aus: Die Daten sind vorhanden\, aber für 
 den Betrieb unstrukturiert\, oder die für den Betrieb notwendigen Informa
 tionen fehlen. Im Rahmen unseres FM-Blitzlichtes erfahren Sie\, wie man di
 e genannten „leeren Container“ befüllen kann und sich ein erwähnter 
 Mehraufwand durch aufwendiges manuelles Auslesen der benötigten Informati
 onen vermeiden lässt.
LOCATION:Zürich\, Schweiz
DTSTART:20210422T150000Z
DTEND:20210422T160000Z
DTSTAMP:20260420T134740Z
ORGANIZER;CN=IFMA Schweiz :MAILTO:admin@ifma.ch
GEO:47.376887;8.541694
X-APPLE-STRUCTURED-LOCATION;VALUE=URI;X-ADDRESS=Zürich\, Schweiz;X-APPLE-R
 ADIUS=72;X-TITLE=online:47.376887;8.541694
END:VEVENT
END:VCALENDAR