BEGIN:VCALENDAR
VERSION:2.0
PRODID:Events Booking
BEGIN:VEVENT
UID:69ecb4c2361d6
SUMMARY:Flexibilität und Agilität in der Instandhaltung
DESCRIPTION:Zu diesem hochaktuellen Thema bieten wir zwei Referate mit ansc
 hliessender Publikumsdiskussion:
 
 Fit(ter) für die nächste Krise: De
 r VUCA-Welt mit Selbstorganisation begegnen\; Daniela Giebel
 Praxisbeisp
 iel: Instandhaltung bei der BLT im Lockdown\; Philipp Glogg
 
LOCATION:Leonhardsgraben 47-49\, 4051 Basel\, Schweiz
DTSTART:20200930T140000Z
DTEND:20200930T151500Z
DTSTAMP:20260425T143410Z
ORGANIZER;CN=IFMA Schweiz :MAILTO:admin@ifma.ch
GEO:47.555899;7.586413
X-APPLE-STRUCTURED-LOCATION;VALUE=URI;X-ADDRESS=Leonhardsgraben 47-49\, 405
 1 Basel\, Schweiz;X-APPLE-RADIUS=72;X-TITLE=Basel\, Kulturhaus Teufelhof:4
 7.555899;7.586413
END:VEVENT
END:VCALENDAR