BEGIN:VCALENDAR
VERSION:2.0
PRODID:Events Booking
BEGIN:VEVENT
UID:69ea69504814e
SUMMARY:Early Bird Netzwerk Nordschweiz im Juni
DESCRIPTION:Der Early Bird im Juni zum Thema&nbsp\;\"BIM – Building Infor
 mation Modeling\" am Beispiel des Universitätsspitals Zürich findet ausn
 ahmsweise nicht wie üblich an einem Dienstag statt\, sondern am Mittwoch\
 , 8. Juni 2022. Interessierte treffen sich im Hauptbahnhof Zürich zum los
 en Netzwerken bei Kaffee und Gipfeli.
 Special Guest ist Susanna Caravatt
 i-Felchlin\, Präsidentin IFMA Schweiz und Leiterin Planungs- und baubegle
 itendes Facility Management am Universitätsspital Zürich.
LOCATION:Zürich HB\, Bahnhofpl.\, 8001 Zürich\, Schweiz
DTSTART:20220608T053000Z
DTEND:20220608T063000Z
DTSTAMP:20260423T204744Z
ORGANIZER;CN=IFMA Schweiz :MAILTO:admin@ifma.ch
GEO:47.377858;8.540323
X-APPLE-STRUCTURED-LOCATION;VALUE=URI;X-ADDRESS=Zürich HB\, Bahnhofpl.\, 8
 001 Zürich\, Schweiz;X-APPLE-RADIUS=72;X-TITLE=:47.377858;8.540323
END:VEVENT
END:VCALENDAR