BEGIN:VCALENDAR
VERSION:2.0
PRODID:Events Booking
BEGIN:VEVENT
UID:69e8b4f34607b
SUMMARY:CIMERS Madrid FM Event 2022
DESCRIPTION:
 The CIFMERS event in Madrid is a congress for International 
 Facility Management\, where professionals from all over the world will mee
 t at the largest meeting in the sector.
LOCATION:P.º de Juan XXIII\, 3\, 28040 Madrid\, Spanien
DTSTART:20220920T220000Z
DTEND:20220922T220000Z
DTSTAMP:20260422T134555Z
ORGANIZER;CN=IFMA Schweiz :MAILTO:admin@ifma.ch
GEO:40.444889;-3.720144
X-APPLE-STRUCTURED-LOCATION;VALUE=URI;X-ADDRESS=P.º de Juan XXIII\, 3\, 28
 040 Madrid\, Spanien;X-APPLE-RADIUS=72;X-TITLE=Madrid\, Espacio Pablo VI :
 40.444889;-3.720144
END:VEVENT
END:VCALENDAR