BEGIN:VCALENDAR
VERSION:2.0
PRODID:Events Booking
BEGIN:VEVENT
UID:69ea694670a6b
SUMMARY:Architektur und Energie Reise 2022
DESCRIPTION:Highlights (Änderungen vorbehalten):
 
 Plusenergie Konzept 
 in luftiger Höhe: Führung im Hotel Muottas Muragl
 Führung Areal Lyceu
 m Alpinum Zuoz: Entwicklung\, Architektur und Energieversorgung der über 
 100-jährigen\, alpinen Internatsschule
 Besichtigung eines privaten\, ur
 sprünglich belassenen\, Engadinerhauses
 Referat und Diskussion zu den K
 limaauswirkungen im Engadin
 Energiestadt St. Moritz: Besichtigung Energi
 everbund mit Seewasser als Energiequelle
 
 Übernachtung im Hotel Laudi
 nella\, angeschlossen an Energieverbund
LOCATION:Engadin\, Schweiz
DTSTART:20220617T050000Z
DTEND:20220618T190000Z
DTSTAMP:20260423T204734Z
ORGANIZER;CN=IFMA Schweiz :MAILTO:admin@ifma.ch
GEO:46.650234;10.028741
X-APPLE-STRUCTURED-LOCATION;VALUE=URI;X-ADDRESS=Engadin\, Schweiz;X-APPLE-R
 ADIUS=72;X-TITLE=Engadin:46.650234;10.028741
END:VEVENT
END:VCALENDAR