BEGIN:VCALENDAR
VERSION:2.0
PRODID:Events Booking
BEGIN:VEVENT
UID:69ea07f24f351
SUMMARY:Herbstplenarversammlung der KGTV 2021
DESCRIPTION:in Bern oder online
 Themen: Vergaberechtsreform und Beschaffu
 ngsrecht
DTSTART:20211110T080000Z
DTEND:20211110T124500Z
DTSTAMP:20260423T135218Z
ORGANIZER;CN=IFMA Schweiz :MAILTO:admin@ifma.ch
END:VEVENT
END:VCALENDAR