BEGIN:VCALENDAR
VERSION:2.0
PRODID:Events Booking
BEGIN:VEVENT
UID:69e4e82a02f54
SUMMARY:Datenfeldkatalog BIM2FM
DESCRIPTION:Mit dem Arbeitsdokument wurde eine fachliche Basis geschaffen\,
  mit welcher ein einfaches Bestellen von FM-Daten aus dem Bauprozess für 
 den Betrieb möglich wird. Daniela Brühwiler unsere Regionalleiterin Zent
 ralschweiz führt sie durch das Webinar.
 Nach dem Webinar kennen Sie das
  Arbeitsdokument und wissen wie Sie FM-Daten zu Beginn des Bauprozesses be
 stellen können.
 Für IFMA Mitglieder ist die Teilnahme kostenlos (bei B
 emerkungen Vermerk IFMA Mitglied anbringen)
DTSTART:20210420T140000Z
DTEND:20210420T150000Z
DTSTAMP:20260419T163522Z
ORGANIZER;CN=IFMA Schweiz :MAILTO:admin@ifma.ch
END:VEVENT
END:VCALENDAR