BEGIN:VCALENDAR
VERSION:2.0
PRODID:Events Booking
BEGIN:VEVENT
UID:69e9ee8907d01
SUMMARY:13. Business Lunch mit ewz
DESCRIPTION:Erfahren Sie am 13. Business Lunch der Klimaplattform der Wirts
 chaft Zürich mehr über die Arealentwicklung Fischermätteli und die ganz
 heitliche Energielösung.
LOCATION:Stauffacherstrasse 60\, 8004 Zürich\, Schweiz
DTSTART:20211118T103000Z
DTEND:20211118T130000Z
DTSTAMP:20260423T120353Z
ORGANIZER;CN=IFMA Schweiz :MAILTO:admin@ifma.ch
GEO:47.375423;8.527326
X-APPLE-STRUCTURED-LOCATION;VALUE=URI;X-ADDRESS=Stauffacherstrasse 60\, 800
 4 Zürich\, Schweiz;X-APPLE-RADIUS=72;X-TITLE=Zürich\, Volkshaus:47.37542
 3;8.527326
END:VEVENT
END:VCALENDAR