BEGIN:VCALENDAR
VERSION:2.0
PRODID:Events Booking
BEGIN:VEVENT
UID:69e89b831eddd
SUMMARY:Zollhaus
DESCRIPTION:FEZ ENERGIE VorOrtZukunftsfähige Stadtentwicklung im Zentrum: 
 Wohnen\, Arbeiten\, Gewerbe\, Dienstleistungen\, Kultur und Gemeinschaft 
 – das Zollhaus der Genossenschaft Kalkbreite prägt mit seinen drei Baut
 en das Stadtgebiet vis-à-vis der Europaallee und steht\, nicht nur archit
 ektonisch\, für Offenheit und Durchmischung.
LOCATION:Zollstrasse 121\, 8005 Zürich\, Schweiz
DTSTART:20220920T151500Z
DTEND:20220920T170000Z
DTSTAMP:20260422T115723Z
ORGANIZER;CN=IFMA Schweiz :MAILTO:admin@ifma.ch
GEO:47.381623;8.529969
X-APPLE-STRUCTURED-LOCATION;VALUE=URI;X-ADDRESS=Zollstrasse 121\, 8005 Zür
 ich\, Schweiz;X-APPLE-RADIUS=72;X-TITLE=Zürich\, Zollhaus:47.381623;8.529
 969
END:VEVENT
END:VCALENDAR