BEGIN:VCALENDAR
VERSION:2.0
PRODID:Events Booking
BEGIN:VEVENT
UID:69e60ccd48506
SUMMARY:Webinar im Rahmen der Environment Forum Week 2023
DESCRIPTION:Sustainable placemaking in a resilient\, net zero world. Are we
  nearing a tipping point?
LOCATION:Zürich\, Schweiz
DTSTART:20230116T090000Z
DTEND:20230116T160000Z
DTSTAMP:20260420T132357Z
ORGANIZER;CN=IFMA Schweiz :MAILTO:admin@ifma.ch
GEO:47.376887;8.541694
X-APPLE-STRUCTURED-LOCATION;VALUE=URI;X-ADDRESS=Zürich\, Schweiz;X-APPLE-R
 ADIUS=72;X-TITLE=online:47.376887;8.541694
END:VEVENT
END:VCALENDAR