BEGIN:VCALENDAR
VERSION:2.0
PRODID:Events Booking
BEGIN:VEVENT
UID:69e89b8308cae
SUMMARY:Transdisciplinary Workplace Research
DESCRIPTION:
 The workplace has never been so crucial.Contemporary workpla
 ces are situated in a disciplinary field where social\, physical\, technol
 ogical and management issues mix and merge. How can we improve the wellbei
 ng\, health\, satisfaction and performance of a wide range of workplace 
 ‘users’?Former EuroFM Chair Olga van Diermen will speak at this event.
LOCATION:Piazza Leonardo da Vinci\, 32\, 20133 Milano MI\, Italien
DTSTART:20220906T220000Z
DTEND:20220909T220000Z
DTSTAMP:20260422T115723Z
ORGANIZER;CN=IFMA Schweiz :MAILTO:admin@ifma.ch
GEO:45.477711;9.227257
X-APPLE-STRUCTURED-LOCATION;VALUE=URI;X-ADDRESS=Piazza Leonardo da Vinci\, 
 32\, 20133 Milano MI\, Italien;X-APPLE-RADIUS=72;X-TITLE=Milano\, Politecn
 ico di Milano:45.477711;9.227257
END:VEVENT
END:VCALENDAR