BEGIN:VCALENDAR
VERSION:2.0
PRODID:Events Booking
BEGIN:VEVENT
UID:69e8867057f3e
SUMMARY:Spaziergang Hitzeminderung
DESCRIPTION:FEZ SpecialSpätestens der Hitzesommer 2018 hat uns die Auswirk
 ungen des Klimawandels in Städten eindrücklich bewusst gemacht. Dicht be
 baute Gebiete – wie Zürich West – erwärmen sich überdurchschnittlic
 h stark. An praktischen Beispielen referieren Expert*innen der Stadt Züri
 ch zu Massnahmen der Hitzeminderung und Biodiversitätsförderung.
LOCATION:Schiffbaustrasse 13\, 8005 Zürich\, Schweiz
DTSTART:20220906T151500Z
DTEND:20220906T170000Z
DTSTAMP:20260422T102728Z
ORGANIZER;CN=IFMA Schweiz :MAILTO:admin@ifma.ch
GEO:47.389125;8.516752
X-APPLE-STRUCTURED-LOCATION;VALUE=URI;X-ADDRESS=Schiffbaustrasse 13\, 8005 
 Zürich\, Schweiz;X-APPLE-RADIUS=72;X-TITLE=Zürich\, Turbinenplatz:47.389
 125;8.516752
END:VEVENT
END:VCALENDAR