BEGIN:VCALENDAR
VERSION:2.0
PRODID:Events Booking
BEGIN:VEVENT
UID:69e4d0ef1007e
SUMMARY:Save the date: 20 ans de GNI/IRB 
DESCRIPTION:Journée de rencontre de tous les membres et intéressés GNI/I
 RB avec programme spécial.
 Vendredi après-midi:
 
 Visite en groupe 
 du CERN
 Dégustation dans une cave à vin
 
 Hébergement au Starling 
 Hotel Geneva pour les participants de Suisse allémanique et ceux qui le s
 ouhaitent.
 Samedi
 
 Croisière sur le lac
 Déjeuner à Yvoire
 Ret
 our en bateau
 
 Le montant de la participation financière n'est pas en
 core connu
 » Inscription à cette manifestation
DTSTART:20161028T060000Z
DTEND:20161029T170000Z
DTSTAMP:20260419T145615Z
ORGANIZER;CN=IFMA Schweiz :MAILTO:admin@ifma.ch
END:VEVENT
END:VCALENDAR