BEGIN:VCALENDAR
VERSION:2.0
PRODID:Events Booking
BEGIN:VEVENT
UID:69ecb3bf66da6
SUMMARY:Powerloop-Forum 2021: Versorgungssicherheit oder Blackout?
DESCRIPTION:Dezentrale Energieanlagen: Neben der effizienten Produktion von
  Strom und Wärme sind sie eine Stütze für die Winterstromversorgung.
LOCATION:Neubrückstrasse 43\, 3012 Bern\, Schweiz
DTSTART:20211110T110000Z
DTEND:20211110T160000Z
DTSTAMP:20260425T142951Z
ORGANIZER;CN=IFMA Schweiz :MAILTO:admin@ifma.ch
GEO:46.956255;7.437818
X-APPLE-STRUCTURED-LOCATION;VALUE=URI;X-ADDRESS=Neubrückstrasse 43\, 3012 
 Bern\, Schweiz;X-APPLE-RADIUS=72;X-TITLE=Bern\, Bierhübeli:46.956255;7.43
 7818
END:VEVENT
END:VCALENDAR