BEGIN:VCALENDAR
VERSION:2.0
PRODID:Events Booking
BEGIN:VEVENT
UID:69eb67cb6d93b
SUMMARY:GNI Anlass: Hotel Mandarin Oriental Savoy - Herausforderungen der S
 anierung
DESCRIPTION:Nach einer umfangreichen Renovierung ist das Mandarin Oriental 
 Savoy\, Zürich wieder geöffnet. Dieses ikonische Anwesen wurde 1838 gegr
 ündet und ist das älteste Grandhotel der Stadt. Doch was braucht es\, um
  ein Hotel dieser Kategorie hochzufahren? Was für eine Technik steckt in 
 diesem grossen Gebäude\, um nicht nur die Gäste zu verwöhnen\, sondern 
 auch dem heutigen Energiestandard gerecht zu werden?Erfahren Sie mehr dazu
  und inkl. exklusiver Führung hinter die Kulissen!
LOCATION:Poststrasse 12\, 8001 Zürich\, Schweiz
DTSTART:20240910T133000Z
DTEND:20240910T160000Z
DTSTAMP:20240704T081816Z
ORGANIZER;CN=IFMA Schweiz :MAILTO:admin@ifma.ch
GEO:47.36979;8.539642
X-APPLE-STRUCTURED-LOCATION;VALUE=URI;X-ADDRESS=Poststrasse 12\, 8001 Züri
 ch\, Schweiz;X-APPLE-RADIUS=72;X-TITLE=:47.36979;8.539642
END:VEVENT
END:VCALENDAR