BEGIN:VCALENDAR
VERSION:2.0
PRODID:Events Booking
BEGIN:VEVENT
UID:69e5e1dace5d6
SUMMARY:Generalversammlung GNI
DESCRIPTION:Die GNI-Generalversammlung wird in hybrider Form stattfinden. D
 er Vorstand trifft sich bei Feller AG in Horgen. Alle Mitglieder und Inter
 essenten sind eingeladen den Anlass online zu verfolgen.
 Programm:
 
 
 Start um 16:00 mit der Begrüssung
 Kurzvortrag von Marcel Duff\, Marketi
 ng Communications Director\, Feller AG
 Generalversammlung mit Wahl des n
 euen Präsidenten
 
LOCATION:Zürich\, Schweiz
DTSTART:20210511T140000Z
DTEND:20210511T153000Z
DTSTAMP:20260420T102042Z
ORGANIZER;CN=IFMA Schweiz :MAILTO:admin@ifma.ch
GEO:47.376887;8.541694
X-APPLE-STRUCTURED-LOCATION;VALUE=URI;X-ADDRESS=Zürich\, Schweiz;X-APPLE-R
 ADIUS=72;X-TITLE=online:47.376887;8.541694
END:VEVENT
END:VCALENDAR