BEGIN:VCALENDAR
VERSION:2.0
PRODID:Events Booking
BEGIN:VEVENT
UID:69e89c8e1b2d6
SUMMARY:Gebäudetechnik Kongress 2022
DESCRIPTION:Kooperation &amp\; Reduktion In der Kooperation der Stakeholder
  und Gewerke gibt es noch viel ungenutztes Potenzial. Ziel sollte es sein 
 ganzheitliche\, systemische und kooperative Ansätze voranzutreiben und d
 amit eine Reduktion der Treibhausgase im gesamten Lebenszyklus der Gebäud
 e zu erreichen.IFMA-Mitglieder erhalten Rabatt und zahlen CHF 390.- statt 
 440.- für den Eintritt.Early Bird (bis 14.07.2022) CHF 340.- für den Ein
 tritt.
LOCATION:Brown Boveri Pl. 1\, 5400 Baden\, Schweiz
DTSTART:20220914T070000Z
DTEND:20220914T151000Z
DTSTAMP:20260422T120150Z
ORGANIZER;CN=IFMA Schweiz :MAILTO:admin@ifma.ch
GEO:47.478669;8.305394
X-APPLE-STRUCTURED-LOCATION;VALUE=URI;X-ADDRESS=Brown Boveri Pl. 1\, 5400 B
 aden\, Schweiz;X-APPLE-RADIUS=72;X-TITLE=Baden\, Trafo:47.478669;8.305394
END:VEVENT
END:VCALENDAR