BEGIN:VCALENDAR
VERSION:2.0
PRODID:Events Booking
BEGIN:VEVENT
UID:69eae60c59cf3
SUMMARY:fmpro Netzwerktreffen Bern - Besuch Bernapark
DESCRIPTION:Das Netzwerk Bern lädt zum Rundgang auf dem Gewerbe- und Wohna
 real des Bernparks in Stettlen ein. Die Teilnehmer*innen erwartet eine spa
 nnende Präsentation des innovativen Areals durch den Unternehmer und Init
 ianten Hans-Ulrich Müller sowie Kontakt zu den Verantwortlichen im FM. Ab
 gerundet wird der Anlass durch einen Netzwerk-Apéro.
LOCATION:Bernapark 1\, 3066 Stettlen\, Schweiz
DTSTART:20221026T130000Z
DTEND:20221026T153000Z
DTSTAMP:20260424T053956Z
ORGANIZER;CN=IFMA Schweiz :MAILTO:admin@ifma.ch
GEO:46.958059;7.513802
X-APPLE-STRUCTURED-LOCATION;VALUE=URI;X-ADDRESS=Bernapark 1\, 3066 Stettlen
 \, Schweiz;X-APPLE-RADIUS=72;X-TITLE=Stettlen / Deisswil\, Bernapark:46.95
 8059;7.513802
END:VEVENT
END:VCALENDAR