BEGIN:VCALENDAR
VERSION:2.0
PRODID:Events Booking
BEGIN:VEVENT
UID:69e89c0ca4463
SUMMARY:fmpro Fachtagung
DESCRIPTION:Die fmpro Fachtagung 2022 wird nachmittags im Stadion Wankdorf 
 in Bern durchgeführt. Die Teilnehmenden dürfen drei spannende Referate e
 rwarten. Ausserdem findet anlässlich der Fachtagung der Innovation Market
  statt\, wo Firmen in vierminütigen Zeitslots ihre Angebote präsentieren
 .
LOCATION:Papiermühlestrasse 71\, 3014 Bern\, Schweiz
DTSTART:20220907T220000Z
DTEND:20220907T220000Z
DTSTAMP:20260422T115940Z
ORGANIZER;CN=IFMA Schweiz :MAILTO:admin@ifma.ch
GEO:46.963151;7.465038
X-APPLE-STRUCTURED-LOCATION;VALUE=URI;X-ADDRESS=Papiermühlestrasse 71\, 30
 14 Bern\, Schweiz;X-APPLE-RADIUS=72;X-TITLE=Bern\, Stadion Wankdorf:46.963
 151;7.465038
END:VEVENT
END:VCALENDAR