BEGIN:VCALENDAR
VERSION:2.0
PRODID:Events Booking
BEGIN:VEVENT
UID:69e636b63e7ce
SUMMARY:FM Day 2022
DESCRIPTION:FM for Future! - Der Schlüssel für die ZukunftDas Zielpubliku
 m sind Eigentürmer und Investoren / Projektentwickler\, Architekten und P
 laner / Nutzer sowie Betreiber und Immobiliendienstleister.Die Themenschwe
 rpunkte sind:
 
 Neue Arbeitswelten
 mobiles Arbeiten
 FM im Wandel
 
 Daten-Management
 Verändernde Energieversorgung
 
LOCATION:Bockenweg 4\, 8810 Horgen\, Schweiz
DTSTART:20220601T063000Z
DTEND:20220601T143000Z
DTSTAMP:20260420T162246Z
ORGANIZER;CN=IFMA Schweiz :MAILTO:admin@ifma.ch
GEO:47.24246;8.610916
X-APPLE-STRUCTURED-LOCATION;VALUE=URI;X-ADDRESS=Bockenweg 4\, 8810 Horgen\,
  Schweiz;X-APPLE-RADIUS=72;X-TITLE=Horgen\, Bocken:47.24246;8.610916
END:VEVENT
END:VCALENDAR