BEGIN:VCALENDAR
VERSION:2.0
PRODID:Events Booking
BEGIN:VEVENT
UID:69e89d6c0949a
SUMMARY:Early Bird - Réunion de réseau groupe régional Romandie
DESCRIPTION:Le fmpro groupe régional Romandie organise sa rencontre «Earl
 y Bird – café et croissants» à Lausanne.
LOCATION:Place de la Gare 11\, 1003 Lausanne\, Schweiz
DTSTART:20220915T053000Z
DTEND:20220915T063000Z
DTSTAMP:20260422T120532Z
ORGANIZER;CN=IFMA Schweiz :MAILTO:admin@ifma.ch
GEO:46.517239;6.627913
X-APPLE-STRUCTURED-LOCATION;VALUE=URI;X-ADDRESS=Place de la Gare 11\, 1003 
 Lausanne\, Schweiz;X-APPLE-RADIUS=72;X-TITLE=Lausanne\, Tibits:46.517239;6
 .627913
END:VEVENT
END:VCALENDAR