BEGIN:VCALENDAR
VERSION:2.0
PRODID:Events Booking
BEGIN:VEVENT
UID:69eb440402b8a
SUMMARY:Strom speichern und flexibilisieren
DESCRIPTION:Tauchen Sie in diesem Referat in die Welt des bidirektionalen L
 adens von Elektrofahrzeugen in der Schweiz ein. Was ist der aktuelle Stand
  der Technik? Was sind die neuesten\, was sind die zu erwartendne zukünft
 igen technologischen Entwicklungen? Welche Rolle kann das bidirektionale L
 aden in der Stabilisierung des Schweizer Energiesystems spielen?
LOCATION:Weinbergstrasse 36\, 8006 Zürich\, Schweiz
DTSTART:20250115T161500Z
DTEND:20250115T180000Z
DTSTAMP:20241113T074154Z
ORGANIZER;CN=IFMA Schweiz :MAILTO:admin@ifma.ch
GEO:47.379872;8.544478
X-APPLE-STRUCTURED-LOCATION;VALUE=URI;X-ADDRESS=Weinbergstrasse 36\, 8006 Z
 ürich\, Schweiz;X-APPLE-RADIUS=72;X-TITLE=Zürich\, Pfarreizentrum Liebfr
 auen:47.379872;8.544478
END:VEVENT
END:VCALENDAR