BEGIN:VCALENDAR
VERSION:2.0
PRODID:Events Booking
BEGIN:VEVENT
UID:69e8b4d420bce
SUMMARY:Recyclinghaus K118
DESCRIPTION:FEZ ENERGIE VorOrtDie Veranstaltung zum Thema \"Zirkuläres Bau
 en\" findet in Zusammenarbeit mit Baubioswiss statt: Auf dem Lagerplatz Wi
 nterthur wird eine bestehende Lagerhalle aufgestockt\, mit dem Ziel\, auss
 chliesslich bereits vorhandene Bauteile aus Rückbauten zu verwenden. Der 
 Planungsprozess kehrt sich dabei um.
LOCATION:Lagerpl. 118\, 8400 Winterthur\, Schweiz
DTSTART:20220613T160000Z
DTEND:20220613T180000Z
DTSTAMP:20260422T134524Z
ORGANIZER;CN=IFMA Schweiz :MAILTO:admin@ifma.ch
GEO:47.49358;8.716696
X-APPLE-STRUCTURED-LOCATION;VALUE=URI;X-ADDRESS=Lagerpl. 118\, 8400 Wintert
 hur\, Schweiz;X-APPLE-RADIUS=72;X-TITLE=Winterthur\, Kopfbau Halle 118:47.
 49358;8.716696
END:VEVENT
END:VCALENDAR