BEGIN:VCALENDAR
VERSION:2.0
PRODID:Events Booking
BEGIN:VEVENT
UID:69eaba4ccbf58
SUMMARY:Nutzungskonflikt an der Gebäudehülle und gute Kompromisse
DESCRIPTION:FEZ ENERGIE Event
 
 Mehrfachnutzung der Gebäudehülle - Dil
 emma oder Chance
 Grüne Dächer und Fassaden - multifunktionale Klimareg
 ler
 Solares Bauen
 
LOCATION:Weinbergstrasse 36\, 8006 Zürich\, Schweiz
DTSTART:20230207T161500Z
DTEND:20230207T180000Z
DTSTAMP:20260424T023316Z
ORGANIZER;CN=IFMA Schweiz :MAILTO:admin@ifma.ch
GEO:47.379872;8.544478
X-APPLE-STRUCTURED-LOCATION;VALUE=URI;X-ADDRESS=Weinbergstrasse 36\, 8006 Z
 ürich\, Schweiz;X-APPLE-RADIUS=72;X-TITLE=Zürich\, Pfarreizentrum Liebfr
 auen:47.379872;8.544478
END:VEVENT
END:VCALENDAR