BEGIN:VCALENDAR
VERSION:2.0
PRODID:Events Booking
BEGIN:VEVENT
UID:69eb1872de6ad
SUMMARY:Netzwerktreffen TGM - Besichtigung Victorinox Messerfabrik
DESCRIPTION:Das Netzwerk TGM bietet Ihnen die Möglichkeit\, einen Blick hi
 nter die Kulissen zu werfen. Dabei erfahren Sie\, wie viele einzelne Schri
 tte die Herstellung eines legendären Schweizer Taschenmessers umfasst. Vi
 ctorinox produziert und vertreibt weltweit einzigartige Qualitätsprodukte
  mit praktischem Nutzen für verschiedene Lebensbereiche. Kommen Sie mit a
 uf eine spannende Führung.
LOCATION:6438 Ibach\, Schweiz
DTSTART:20240613T071500Z
DTEND:20240613T110000Z
DTSTAMP:20240423T064724Z
ORGANIZER;CN=IFMA Schweiz :MAILTO:admin@ifma.ch
GEO:47.010848;8.643847
X-APPLE-STRUCTURED-LOCATION;VALUE=URI;X-ADDRESS=6438 Ibach\, Schweiz;X-APPL
 E-RADIUS=72;X-TITLE=:47.010848;8.643847
END:VEVENT
END:VCALENDAR