BEGIN:VCALENDAR
VERSION:2.0
PRODID:Events Booking
BEGIN:VEVENT
UID:69ecd3b4023f4
SUMMARY:Netzwerktreffen Ostschweiz mit Besichtigung Produktion A. Vogel AG
DESCRIPTION:Voravis
LOCATION:Grünaustrasse 4\, 9325 Roggwil\, Schweiz
DTSTART:20220623T220000Z
DTEND:20220623T220000Z
DTSTAMP:20260425T164612Z
ORGANIZER;CN=IFMA Schweiz :MAILTO:admin@ifma.ch
GEO:47.502872;9.404193
X-APPLE-STRUCTURED-LOCATION;VALUE=URI;X-ADDRESS=Grünaustrasse 4\, 9325 Rog
 gwil\, Schweiz;X-APPLE-RADIUS=72;X-TITLE=Roggwil\, A. Vogel AG:47.502872;9
 .404193
END:VEVENT
END:VCALENDAR