BEGIN:VCALENDAR
VERSION:2.0
PRODID:Events Booking
BEGIN:VEVENT
UID:69eb26f3e563b
SUMMARY:Netzwerktreffen Bern - Besuch PZM Münsingen: Bauen und Betreiben u
 nter Denkmalpflege
DESCRIPTION:In einem spannenden Vortrag erfahren Sie\, wie das Psychiatrie 
 Zentrum Münsingen (PZM) ihre denkmalgeschützten Gebäude umbaut und eine
  nachhaltige Instandhaltung betreibt. Bei der anschliessenden Führung bes
 ichtigen wir ein Objekt\, welches neu umgebaut wurde. 
LOCATION:Hunzigenstrasse 1\, 3110 Münsingen\, Schweiz
DTSTART:20240918T140000Z
DTEND:20240918T173000Z
DTSTAMP:20240711T080729Z
ORGANIZER;CN=IFMA Schweiz :MAILTO:admin@ifma.ch
GEO:46.880507;7.553195
X-APPLE-STRUCTURED-LOCATION;VALUE=URI;X-ADDRESS=Hunzigenstrasse 1\, 3110 M
 ünsingen\, Schweiz;X-APPLE-RADIUS=72;X-TITLE=:46.880507;7.553195
END:VEVENT
END:VCALENDAR