BEGIN:VCALENDAR
VERSION:2.0
PRODID:Events Booking
BEGIN:VEVENT
UID:69ecb5001c7af
SUMMARY:Langlebige Gebäude als Beitrag zur Umweltschonung
DESCRIPTION:FEZ UpToDate Der Energie- und Ressourcenverbrauch in der Erstel
 lung von Gebäuden ist massiv. Deshalb ist es wichtig\, dass dauerhafte Ge
 bäude erstellt werden. Aber wie kann dies beeinflusst werden?
LOCATION:Zürich\, Schweiz
DTSTART:20221024T100000Z
DTEND:20221024T103000Z
DTSTAMP:20260425T143512Z
ORGANIZER;CN=IFMA Schweiz :MAILTO:admin@ifma.ch
GEO:47.376887;8.541694
X-APPLE-STRUCTURED-LOCATION;VALUE=URI;X-ADDRESS=Zürich\, Schweiz;X-APPLE-R
 ADIUS=72;X-TITLE=online:47.376887;8.541694
END:VEVENT
END:VCALENDAR