BEGIN:VCALENDAR
VERSION:2.0
PRODID:Events Booking
BEGIN:VEVENT
UID:69e612dd08ea1
SUMMARY:IFMA Workshop: Wie digitalisiert man Portfolio- und Assetbestände 
 für welchen Zweck
DESCRIPTION:&nbsp\;
 
 Referat von Matthias Wasem\, Geschäftsführer und
  Mitinhaber\, BIM Facility AG
 
 &nbsp\;
 &nbsp\;
LOCATION:Messepl. 1\, 4058 Basel\, Schweiz
DTSTART:20220505T133000Z
DTEND:20220505T143000Z
DTSTAMP:20260420T134949Z
ORGANIZER;CN=IFMA Schweiz :MAILTO:admin@ifma.ch
GEO:47.563976;7.599431
X-APPLE-STRUCTURED-LOCATION;VALUE=URI;X-ADDRESS=Messepl. 1\, 4058 Basel\, S
 chweiz;X-APPLE-RADIUS=72;X-TITLE=Basel\, Messe Basel Halle 1.0 Süd:47.563
 976;7.599431
END:VEVENT
END:VCALENDAR