BEGIN:VCALENDAR
VERSION:2.0
PRODID:Events Booking
BEGIN:VEVENT
UID:69ea68ab4af9b
SUMMARY:IFMA Workshop Building Twin – Fiktion oder Realität
DESCRIPTION:&nbsp\;&nbsp\;&nbsp\;&nbsp\;&nbsp\;&nbsp\;&nbsp\;&nbsp\;&nbsp\;
 &nbsp\;&nbsp\;&nbsp\;&nbsp\;&nbsp\;&nbsp\;&nbsp\;&nbsp\;&nbsp\;&nbsp\;&nbs
 p\;&nbsp\;&nbsp\;&nbsp\;&nbsp\;&nbsp\;&nbsp\;&nbsp\;&nbsp\;&nbsp\;&nbsp\;&
 nbsp\;&nbsp\;&nbsp\;&nbsp\;&nbsp\;&nbsp\;&nbsp\;&nbsp\;&nbsp\;&nbsp\;&nbsp
 \;&nbsp\;&nbsp\;&nbsp\;&nbsp\;&nbsp\;&nbsp\;&nbsp\;&nbsp\;&nbsp\;&nbsp\;&n
 bsp\;&nbsp\;&nbsp\;&nbsp\;&nbsp\;&nbsp\;&nbsp\;&nbsp\;&nbsp\;&nbsp\;&nbsp\
 ;&nbsp\;&nbsp\;&nbsp\;
 Referat von Adrian Staudenmaier\, Bereichsleiter 
 Digital Building bei Jobst Willers Engineering AG
 Anmeldung via Swissbau
  www.swissbau.ch/veranstaltungskalender Veranstalter IFMA eingeben
 
LOCATION:Messepl. 1\, 4058 Basel\, Schweiz
DTSTART:20220503T133000Z
DTEND:20220503T143000Z
DTSTAMP:20260423T204459Z
ORGANIZER;CN=IFMA Schweiz :MAILTO:admin@ifma.ch
GEO:47.563976;7.599431
X-APPLE-STRUCTURED-LOCATION;VALUE=URI;X-ADDRESS=Messepl. 1\, 4058 Basel\, S
 chweiz;X-APPLE-RADIUS=72;X-TITLE=Basel\, Messe Basel Halle 1.0 Süd:47.563
 976;7.599431
END:VEVENT
END:VCALENDAR