BEGIN:VCALENDAR
VERSION:2.0
PRODID:Events Booking
BEGIN:VEVENT
UID:69eb43c1741e6
SUMMARY:IFM Day 2025
DESCRIPTION:Save the date!Es bleibt weiterhin spannend in der Entwicklung r
 und ums FM. Reservieren Sie sich das Datum schon heute um nichts zu verpas
 sen.
LOCATION:Seestrasse 55\, 8820 Wädenswil\, Schweiz
DTSTART:20250307T073000Z
DTEND:20250307T123000Z
DTSTAMP:20240814T052129Z
ORGANIZER;CN=IFMA Schweiz :MAILTO:admin@ifma.ch
GEO:47.225227;8.67903
X-APPLE-STRUCTURED-LOCATION;VALUE=URI;X-ADDRESS=Seestrasse 55\, 8820 Wäden
 swil\, Schweiz;X-APPLE-RADIUS=72;X-TITLE=Wädenswil\, Institut für Facili
 ty Management:47.225227;8.67903
END:VEVENT
END:VCALENDAR