BEGIN:VCALENDAR
VERSION:2.0
PRODID:Events Booking
BEGIN:VEVENT
UID:69ea07e84ba23
SUMMARY:fmpro Webcast: FM Salärstudie 2020
DESCRIPTION:
 Wie sind die aktuellen Salär Benchmarks bei Mitarbeitenden 
 auf Fach- und Führungsebene?
 Wie hat sich das Lohngefüge in den letzte
 n Jahren entwickelt?
 Wo stehen Sie in Ihrer persönlichen Entwicklung?

  
 Der Studienleiter Daniel von Felten gibt bei dieser Veranstaltung Ausk
 ünfte zu den verschiedenen Entwicklungen und zeigt auf\, welche Schlussfo
 lgerungen aus den Ergebnissen gezogen werden können.
 
 Die Teilnahme a
 n der Veranstaltung ist kostenlos
 Eine Anmeldung ist erforderlich per Ma
 il an info@fmpro-swiss.ch
 Teilnehmern wird der Zugangslink vor der Veran
 staltung zugestellt
 
LOCATION:Zürich\, Schweiz
DTSTART:20210202T153000Z
DTEND:20210202T163000Z
DTSTAMP:20260423T135208Z
ORGANIZER;CN=IFMA Schweiz :MAILTO:admin@ifma.ch
GEO:47.376887;8.541694
X-APPLE-STRUCTURED-LOCATION;VALUE=URI;X-ADDRESS=Zürich\, Schweiz;X-APPLE-R
 ADIUS=72;X-TITLE=online:47.376887;8.541694
END:VEVENT
END:VCALENDAR