BEGIN:VCALENDAR
VERSION:2.0
PRODID:Events Booking
BEGIN:VEVENT
UID:69e7921dd2d82
SUMMARY:fmpro Netzwerktreffen Ostschweiz
DESCRIPTION:Das fmpro Netzwerktreffen findet alle zwei Monate statt und ist
  ein Treffen im lockeren Rahmen. Es dient Interessierten&nbsp\;als Plattfo
 rm für Wissen\, Netzwerk und Geselligkeit.&nbsp\;Themen werden von den Te
 ilnehmenden spontan angesprochen oder können im Vorfeld des Anlasses bei 
 der Netzwerkgruppe eingegeben werden.
 Aufgrund der aktuellen Covid-Lage 
 wird das FAWO-Treffen vom 3. September 2020 abgesagt.
LOCATION:Vadianstrasse 14\, 9000 St. Gallen\, Schweiz
DTSTART:20200903T153000Z
DTEND:20200903T170000Z
DTSTAMP:20260421T170501Z
ORGANIZER;CN=IFMA Schweiz :MAILTO:admin@ifma.ch
GEO:47.422709;9.372206
X-APPLE-STRUCTURED-LOCATION;VALUE=URI;X-ADDRESS=Vadianstrasse 14\, 9000 St.
  Gallen\, Schweiz;X-APPLE-RADIUS=72;X-TITLE=St. Gallen\, Café Restaurant 
 Gentile:47.422709;9.372206
END:VEVENT
END:VCALENDAR