BEGIN:VCALENDAR
VERSION:2.0
PRODID:Events Booking
BEGIN:VEVENT
UID:69eaa503ea7ca
SUMMARY:EuroFM researcher meetup - getting started
DESCRIPTION:The purpose of the meeting is to share the passion toward FM re
 search and to plan the next steps and agenda for the working groups with s
 pecific themes. The working groups are established for 2023-2024. This is 
 a great opportunity for making impact and sharing your thoughts.
LOCATION:Zürich\, Schweiz
DTSTART:20221007T110000Z
DTEND:20221007T124500Z
DTSTAMP:20260424T010227Z
ORGANIZER;CN=IFMA Schweiz :MAILTO:admin@ifma.ch
GEO:47.376887;8.541694
X-APPLE-STRUCTURED-LOCATION;VALUE=URI;X-ADDRESS=Zürich\, Schweiz;X-APPLE-R
 ADIUS=72;X-TITLE=online:47.376887;8.541694
END:VEVENT
END:VCALENDAR