BEGIN:VCALENDAR
VERSION:2.0
PRODID:Events Booking
BEGIN:VEVENT
UID:69e5ea4cc2414
SUMMARY:EuroFM Meetings
DESCRIPTION:As during the last 30 years EuroFM has arranged meetings and fo
 rums for European FM Leaders and National Associations\, the next FM Natio
 nal Association meeting 2019 in Zurich will be all about EuroFM becomes 'O
 neFM'. 
LOCATION:Seestrasse 55\, 8820 Wädenswil\, Schweiz
DTSTART:20190306T160000Z
DTEND:20190309T160000Z
DTSTAMP:20260420T105644Z
ORGANIZER;CN=IFMA Schweiz :MAILTO:admin@ifma.ch
GEO:47.225227;8.67903
X-APPLE-STRUCTURED-LOCATION;VALUE=URI;X-ADDRESS=Seestrasse 55\, 8820 Wäden
 swil\, Schweiz;X-APPLE-RADIUS=72;X-TITLE=Wädenswil\, Institut für Facili
 ty Management:47.225227;8.67903
END:VEVENT
END:VCALENDAR