BEGIN:VCALENDAR
VERSION:2.0
PRODID:Events Booking
BEGIN:VEVENT
UID:69eaba79e5c16
SUMMARY:Energie aus Abfall heute und morgen - Besichtigung KHK St. Gallen
DESCRIPTION:Energie aus Abfall für heute und morgen
 Am 13. April besicht
 igen wir das Kehrichtheizkraftwerk St. Gallen.
 «Burny»\, ein besonders
  abenteuerlustiger Gebührensack\, präsentiert&nbsp\; eindrücklich die T
 ransformation von Abfall zu Wärme. Durch den täglich angelieferten Abfal
 l entsteht\, zusätzlich zur Stromproduktion\, Wärme für 9 500 Haushalte
 .
 Nach der Führung erwartet Sie ein Kurzvortrag von Pirmin Cavelti zum 
 Thema «Wechsel zu bedarfsgerechter Schmierung».
 Gemeinsames Nachtessen
 .
 Ort: Kehrichtheizkraftwerk St.Gallen\, Rechenwaldstrasse 30\, 9014 St.
 Gallen
LOCATION:Rechenwaldstrasse 30\, 9014 St. Gallen\, Schweiz
DTSTART:20230413T140000Z
DTEND:20230413T193000Z
DTSTAMP:20230317T144206Z
ORGANIZER;CN=IFMA Schweiz :MAILTO:admin@ifma.ch
GEO:47.415604;9.33258
X-APPLE-STRUCTURED-LOCATION;VALUE=URI;X-ADDRESS=Rechenwaldstrasse 30\, 9014
  St. Gallen\, Schweiz;X-APPLE-RADIUS=72;X-TITLE=:47.415604;9.33258
END:VEVENT
END:VCALENDAR