BEGIN:VCALENDAR
VERSION:2.0
PRODID:Events Booking
BEGIN:VEVENT
UID:69e5e7c8abc10
SUMMARY:BIM & Economy: IPD in Theorie und Praxis
DESCRIPTION:Hervorragende Projekte entstehen immer dann\, wenn Menschen gut
  Zusammenarbeiten und die aktuellen\, technischen Möglichkeiten sinnvoll 
 nutzen. Dabei geht es darum\, die Mechanismen hinter der horizontalen und 
 vertikalen Integration zu verstehen und in der Praxis zu erkennen. Als Ori
 entierung hilft das IPD-Simple-Framework und schafft damit eine solide Hil
 festellung in der Anwendung.
LOCATION:Zürich\, Schweiz
DTSTART:20210323T150000Z
DTEND:20210323T160000Z
DTSTAMP:20260420T104600Z
ORGANIZER;CN=IFMA Schweiz :MAILTO:admin@ifma.ch
GEO:47.376887;8.541694
X-APPLE-STRUCTURED-LOCATION;VALUE=URI;X-ADDRESS=Zürich\, Schweiz;X-APPLE-R
 ADIUS=72;X-TITLE=online:47.376887;8.541694
END:VEVENT
END:VCALENDAR