BEGIN:VCALENDAR
VERSION:2.0
PRODID:Events Booking
BEGIN:VEVENT
UID:69eb18f74af6d
SUMMARY:bauenschweiz Webinar #3: Erste Urteile zum neuen Recht
DESCRIPTION:Webinar-Reihe zum Beschaffungsrecht.Es liegen noch keine Inform
 ationen vor.
LOCATION:Zürich\, Schweiz
DTSTART:20240819T083000Z
DTEND:20240819T100000Z
DTSTAMP:20240220T073231Z
ORGANIZER;CN=IFMA Schweiz :MAILTO:admin@ifma.ch
GEO:47.376887;8.541694
X-APPLE-STRUCTURED-LOCATION;VALUE=URI;X-ADDRESS=Zürich\, Schweiz;X-APPLE-R
 ADIUS=72;X-TITLE=online:47.376887;8.541694
END:VEVENT
END:VCALENDAR